BEGIN:VCALENDAR
VERSION:2.0
PRODID:-//The Lovely Places - ECPv6.15.16//NONSGML v1.0//EN
CALSCALE:GREGORIAN
METHOD:PUBLISH
X-ORIGINAL-URL:https://www.thelovelyplaces.com
X-WR-CALDESC:Eventi per The Lovely Places
REFRESH-INTERVAL;VALUE=DURATION:PT1H
X-Robots-Tag:noindex
X-PUBLISHED-TTL:PT1H
BEGIN:VTIMEZONE
TZID:Europe/Rome
BEGIN:DAYLIGHT
TZOFFSETFROM:+0100
TZOFFSETTO:+0200
TZNAME:CEST
DTSTART:20250330T010000
END:DAYLIGHT
BEGIN:STANDARD
TZOFFSETFROM:+0200
TZOFFSETTO:+0100
TZNAME:CET
DTSTART:20251026T010000
END:STANDARD
BEGIN:DAYLIGHT
TZOFFSETFROM:+0100
TZOFFSETTO:+0200
TZNAME:CEST
DTSTART:20260329T010000
END:DAYLIGHT
BEGIN:STANDARD
TZOFFSETFROM:+0200
TZOFFSETTO:+0100
TZNAME:CET
DTSTART:20261025T010000
END:STANDARD
BEGIN:DAYLIGHT
TZOFFSETFROM:+0100
TZOFFSETTO:+0200
TZNAME:CEST
DTSTART:20270328T010000
END:DAYLIGHT
BEGIN:STANDARD
TZOFFSETFROM:+0200
TZOFFSETTO:+0100
TZNAME:CET
DTSTART:20271031T010000
END:STANDARD
END:VTIMEZONE
BEGIN:VEVENT
DTSTART;TZID=Europe/Rome:20260509T000000
DTEND;TZID=Europe/Rome:20260919T235900
DTSTAMP:20260419T195404
CREATED:20260417T132605Z
LAST-MODIFIED:20260417T132605Z
UID:10001200-1778284800-1789862340@www.thelovelyplaces.com
SUMMARY:Oasi Gregorina affiliata WWF: Vivi un’esperienza che ti cambierà!
DESCRIPTION:Prendi una pausa dalla frenesia quotidiana e scopri l’Oasi Gregorina WWF a Castrocaro Terme e Terra del Sole (FC) con la tua famiglia e gli amici! \nOasi Gregorina è un luogo dove connettersi con la natura\, stare insieme e ritrovare il proprio ritmo; è il cuore dell’impegno ambientale di Generali\, dove si tutela la biodiversità\, si propongono attività per accrescere l’educazione ambientale e si promuovono nuove forme di socialità grazie a installazioni e sorprese lungo il percorso\, accessibili e fruibili da tutti. \nOgni visita inizia con un comodo servizio navetta\, che dal centro di Castrocaro Terme e Terra del Sole ti conduce direttamente all’Oasi. Qui puoi scoprire gli habitat e conoscere meglio la natura che ti circonda grazie alle guide escursionistiche AIGAE che ti condurranno lungo il percorso aiutandoti ad apprezzarne colori\, forme e suggestioni. Inoltre\, puoi mettere alla prova i tuoi sensi sfidando gli amici con giochi e quiz. \n\nPROGRAMMA \n9 maggio – Esplora l’Oasi Gregorina\nUn servizio navetta gratuito dal centro di Castrocaro Terme ti porterà in Oasi Gregorina\, da dove inizierà la tua visita\, accessibile a tutti. Qui potrai conoscere meglio la natura che ti circonda grazie alle guide escursionistiche AIGAE. Installazioni\, sorprese\, giochi e quiz lungo il percorso aiuteranno a rendere speciale la tua esperienza.\nSono previsti due turni di visita al mattino e due turni di visita nel pomeriggio. L’evento si inserisce all’interno della cornice BiodiversyFest e Primavera delle Oasi WWF. \n23 maggio – Esplora l’Oasi Gregorina\nUn servizio navetta gratuito dal centro di Castrocaro Terme ti porterà in Oasi Gregorina da dove inizierà la tua visita\, accessibile a tutti. Qui potrai conoscere meglio la natura che ti circonda grazie alle guide escursionistiche AIGAE. Installazioni\, sorprese\, giochi e quiz lungo il percorso aiuteranno a rendere speciale la tua esperienza.\nSono previsti due turni di visita al mattino e due turni di visita nel pomeriggio. L’evento si inserisce all’interno della cornice BiodiversyFest e Primavera delle Oasi WWF.” \n6 giugno – Yoga nella natura\nUn servizio navetta gratuito dal centro di Castrocaro Terme ti porterà in Oasi Gregorina da dove inizierà la tua visita\, accessibile a tutti. Dopo un breve momento di accoglienza\, è prevista una sessione di yoga pensata per entrare in contatto con la natura e ritrovare il proprio ritmo.\nAl termine dello yoga\, potrai:\nCompletare l’esperienza rigenerante nella natura con una visita guidata insieme alle guide escursionistiche AIGAE.\nRientrare a Castrocaro Terme e Terra del Sole con la navetta gratuita\, senza partecipare alla visita guidata.\nÈ necessario portare con sé un tappettino da yoga. \n20 giugno – Yoga nella natura\nUn servizio navetta gratuito dal centro di Castrocaro Terme ti porterà in Oasi Gregorina da dove inizierà la tua visita\, accessibile a tutti. Dopo un breve momento di accoglienza\, è prevista una sessione di yoga pensata per entrare in contatto con la natura e ritrovare il proprio ritmo.\nAl termine dello yoga\, potrai:\nCompletare l’esperienza rigenerante nella natura con una visita guidata insieme alle guide escursionistiche AIGAE.\nRientrare a Castrocaro Terme e Terra del Sole con la navetta gratuita\, senza partecipare alla visita guidata.\nÈ necessario portare con sé un tappettino da yoga. \n23 luglio – Storie e stelle sopra l’Oasi\nUn servizio navetta gratuito dal centro di Castrocaro Terme ti porterà in Oasi Gregorina da dove inizierà la tua esperienza\, accessibile a tutti.  Dopo un momento di accoglienza è prevista un’attività con il Gruppo Astrofili Forlivesi il cui racconto accompagnerà i partecipanti alla scoperta della volta celeste e degli astri che illuminano il cielo notturno\, tra racconti\, curiosità e osservazioni guidate. \n30 luglio – Magia all’Oasi\nUn servizio navetta gratuito dal centro di Castrocaro Terme ti porterà in Oasi Gregorina da dove inizierà la tua visita\, accessibile a tutti. Qui potrai conoscere meglio la natura che ti circonda grazie alle guide escursionistiche AIGAE.  Dopo una pausa con possibilità di ristoro\, è prevista l’esibizione del Mago Tito che\, immerso nel verde e nei profumi del Bosco Sociale\, condurrà grandi e piccini dentro la magia\, tra sorpresa e meraviglia.\nSarà presente un food truck. \n6 Agosto – Storie di sabbia all’Oasi\nUn servizio navetta gratuito dal centro di Castrocaro Terme ti porterà in Oasi Gregorina da dove inizierà la tua visita\, accessibile a tutti. Qui potrai conoscere meglio la natura che ti circonda grazie alle guide escursionistiche AIGAE. Dopo una pausa con possibilità di ristoro\, è prevista l’esibizione della Sand Artist Erica Abelardo che\, attraverso disegni realizzati con la sabbia\, darà vita a immagini e storie dedicate all’Oasi in un’atmosfera magica\, ricca di musica\, profumi e luci.\nSarà presente un food truck. \n20 agosto – Storie e stelle sopra l’Oasi\nUn servizio navetta gratuito dal centro di Castrocaro Terme ti porterà in Oasi Gregorina da dove inizierà la tua esperienza\, accessibile a tutti.  Dopo un momento di accoglienza è prevista un’attività con il Gruppo Astrofili Forlivesi il cui racconto accompagnerà i partecipanti alla scoperta della volta celeste e degli astri che illuminano il cielo notturno\, tra racconti\, curiosità e osservazioni guidate. \n5 settembre – Esplora l’Oasi Gregorina\nUn servizio navetta gratuito dal centro di Castrocaro Terme ti porterà in Oasi Gregorina da dove inizierà la tua visita\, accessibile a tutti. Qui potrai conoscere meglio la natura che ti circonda grazie alle guide escursionistiche AIGAE. Installazioni\, sorprese\, giochi e quiz lungo il percorso aiuteranno a rendere speciale la tua esperienza.\nSono previsti due turni di visita al mattino e due turni di visita nel pomeriggio. \n19 settembre – Esplora l’Oasi Gregorina\nUn servizio navetta gratuito dal centro di Castrocaro Terme ti porterà in Oasi Gregorina da dove inizierà la tua visita\, accessibile a tutti. Qui potrai conoscere meglio la natura che ti circonda grazie alle guide escursionistiche AIGAE. Installazioni\, sorprese\, giochi e quiz lungo il percorso aiuteranno a rendere speciale la tua esperienza.\nSono previsti due turni di visita al mattino e due turni di visita nel pomeriggio. \n\nL’esperienza è prenotabile qui ed è completamente gratuita.  \nScopri di più su generaliact4green.it o scrivi a info@oasigregorina.it
URL:https://www.thelovelyplaces.com/evento/oasi-gregorina-affiliata-wwf-vivi-unesperienza-che-ti-cambiera/
ATTACH;FMTTYPE=image/jpeg:https://www.thelovelyplaces.com/wp-content/uploads/2026/04/Oasi-Gregorina-12_08_25-12.jpg
END:VEVENT
BEGIN:VEVENT
DTSTART;TZID=Europe/Rome:20260606T000000
DTEND;TZID=Europe/Rome:20260607T235900
DTSTAMP:20260419T195404
CREATED:20260415T102310Z
LAST-MODIFIED:20260415T102310Z
UID:10001197-1780704000-1780876740@www.thelovelyplaces.com
SUMMARY:Isola dei Curiosi
DESCRIPTION:Caratteristico mercatino dedicato al prodotto tipico\, all’artigianato artistico e non solo.\nSabato 6 e domenica 7 giugno\, dalle 10.00 alle 23.00\, ” L’Isola dei Curiosi” trasforma Bellaria Igea Marina in una tappa ideale pe tutti gli amanti del collezionismo\, piccolo antiquariato e vintage.\nTroverai inoltre prodotti di erboristeria e prodotti naturali\, enogastronomia e prodotti alimentari tipici\, floricoltura\, merceria\, filati\, ferramenta\, utensileria\, vita all’aria aperta\, sport\, giardinaggio\, attrezzatura per animali e il caratteristico mercatino agricolo a Km 0.\nTantissime idee originali e curiosità per uno shopping all’insegna della qualità e della tradizione.\nTi aspettiamo a Bellaria Igea Marina per questo appuntamento immancabile nel centro dell’Isola dei Platani.
URL:https://www.thelovelyplaces.com/evento/isola-dei-curiosi/
ATTACH;FMTTYPE=image/jpeg:https://www.thelovelyplaces.com/wp-content/uploads/2026/04/isola-dei-curiosi-per-LP.jpg
END:VEVENT
BEGIN:VEVENT
DTSTART;TZID=Europe/Rome:20260613T180000
DTEND;TZID=Europe/Rome:20260614T010000
DTSTAMP:20260419T195404
CREATED:20260205T092204Z
LAST-MODIFIED:20260205T092310Z
UID:10001157-1781373600-1781398800@www.thelovelyplaces.com
SUMMARY:Ori di Sogliano 2026
DESCRIPTION:• buskers e spettacoli dal vivo •\n• esposizione di arti\, ingegni e mestieri •\n• giochi e laboratori per bambini •\n• installazioni urbane •\n• pittori e opere in strada •\n• malt in fossa & street food•\n• musei e mostre aperti • \n“Ori di Sogliano” si svolge nel centro storico e coinvolge le strade\, piazze e scorci del borgo di Sogliano al Rubicone. \nL’evento è stato ideato con lo scopo di far conoscere a tutti i visitatori le risorse più preziose del territorio e le sue tradizioni; è resa possibile anche grazie alla partecipazione dei cittadini ed associazioni soglianesi che\, partecipando ad incontri e laboratori organizzati nei mesi precedenti all’evento\, realizzano decorazioni ed abbellimenti che adornano il centro storico in occasione di questo evento speciale. \nDurante gli “Ori di Sogliano” si susseguono spettacoli e laboratori fino a tarda notte: concerti\, artisti di strada\, pittori e scultori animano il centro storico\, stand di antichi mestieri e dell’artigianato\, piazze e vie dedicate all’intrattenimento dei bambini. \nLa ricca proposta artistica è affiancata dall’offerta gastronomica dei prodotti tipici della località e dal percorso di degustazione di birre artigianali all’interno dell’area Malt in Fossa\, ideata dall’Associazione La Fossa del Luppolo\, che già da alcune edizioni anima la zona di Piazza Garibaldi per il pubblico giovane con DJ set e concerti. \nLa condivisione e la partecipazione rappresentano uno degli aspetti caratteristici di questa manifestazione\, l’evento si rinnova ogni anno con nuovi percorsi tematici\, nuove attrazioni\, spettacoli e suggestioni.
URL:https://www.thelovelyplaces.com/evento/ori-di-sogliano-2026/
ATTACH;FMTTYPE=image/jpeg:https://www.thelovelyplaces.com/wp-content/uploads/2026/02/Visit-Sogliano-al-Rubicone-Eventi-ori-2026-coming-soon-1.jpeg
END:VEVENT
BEGIN:VEVENT
DTSTART;TZID=Europe/Rome:20260625T183000
DTEND;TZID=Europe/Rome:20260628T000000
DTSTAMP:20260419T195404
CREATED:20260331T071443Z
LAST-MODIFIED:20260331T071443Z
UID:10001190-1782412200-1782604800@www.thelovelyplaces.com
SUMMARY:Popoli Pop Cult Festival
DESCRIPTION:Gastronomia\, spettacoli\, danze e arte da tutto il mondo! \nFocus 2026: Ellenika – l’eredità della grande civiltà greca \nPopoli Pop Cult Festival\, dal 2009 unisce persone da tutto il mondo\, per incuriosirle a conoscere culture\, comportamenti e generazioni diverse\, in un clima inclusivo e festoso.
URL:https://www.thelovelyplaces.com/evento/popoli-pop-cult-festival/
ATTACH;FMTTYPE=image/jpeg:https://www.thelovelyplaces.com/wp-content/uploads/2026/03/Popoli.jpg
END:VEVENT
BEGIN:VEVENT
DTSTART;TZID=Europe/Rome:20260722T210000
DTEND;TZID=Europe/Rome:20260722T233000
DTSTAMP:20260419T195404
CREATED:20260123T075042Z
LAST-MODIFIED:20260212T114923Z
UID:10001156-1784754000-1784763000@www.thelovelyplaces.com
SUMMARY:Skunk Anansie - Sogliano Sonica
DESCRIPTION:Skunk Anansie: una delle band rock più potenti e influenti degli ultimi trent’anni. Con la voce magnetica di Skin\, hanno trasformato ogni concerto in un’esplosione di energia\, intensità e libertà.
URL:https://www.thelovelyplaces.com/evento/skunk-anansie-sogliano-sonica/
ATTACH;FMTTYPE=image/jpeg:https://www.thelovelyplaces.com/wp-content/uploads/2026/01/Visit-Sogliano-al-Rubicone-sogliano-sonica-skun-anansie-2026.jpg
END:VEVENT
END:VCALENDAR