BEGIN:VCALENDAR
VERSION:2.0
PRODID:-//The Lovely Places - ECPv6.15.16//NONSGML v1.0//EN
CALSCALE:GREGORIAN
METHOD:PUBLISH
X-WR-CALNAME:The Lovely Places
X-ORIGINAL-URL:https://www.thelovelyplaces.com
X-WR-CALDESC:Eventi per The Lovely Places
REFRESH-INTERVAL;VALUE=DURATION:PT1H
X-Robots-Tag:noindex
X-PUBLISHED-TTL:PT1H
BEGIN:VTIMEZONE
TZID:Europe/Rome
BEGIN:DAYLIGHT
TZOFFSETFROM:+0100
TZOFFSETTO:+0200
TZNAME:CEST
DTSTART:20250330T010000
END:DAYLIGHT
BEGIN:STANDARD
TZOFFSETFROM:+0200
TZOFFSETTO:+0100
TZNAME:CET
DTSTART:20251026T010000
END:STANDARD
BEGIN:DAYLIGHT
TZOFFSETFROM:+0100
TZOFFSETTO:+0200
TZNAME:CEST
DTSTART:20260329T010000
END:DAYLIGHT
BEGIN:STANDARD
TZOFFSETFROM:+0200
TZOFFSETTO:+0100
TZNAME:CET
DTSTART:20261025T010000
END:STANDARD
BEGIN:DAYLIGHT
TZOFFSETFROM:+0100
TZOFFSETTO:+0200
TZNAME:CEST
DTSTART:20270328T010000
END:DAYLIGHT
BEGIN:STANDARD
TZOFFSETFROM:+0200
TZOFFSETTO:+0100
TZNAME:CET
DTSTART:20271031T010000
END:STANDARD
END:VTIMEZONE
BEGIN:VEVENT
DTSTART;TZID=Europe/Rome:20260322T170000
DTEND;TZID=Europe/Rome:20260322T200000
DTSTAMP:20260419T193039
CREATED:20260319T100044Z
LAST-MODIFIED:20260319T100412Z
UID:10001181-1774198800-1774209600@www.thelovelyplaces.com
SUMMARY:Pellegrinaggio visivo alla Verna\, il primo pop-up della Storia
DESCRIPTION:A conclusione delle Ricorrenze dell’Ottocentenario Giubilare di San Francesco (2023-2026)\,\nFrancescanamente\, con il patrocinio del Comune di Novafeltria e della Diocesi di San\nMarino Montefeltro\, si terrà il prossimo 22 marzo 2026 alle ore 17\, presso il Ridotto del\nTeatro Sociale di Novafeltria la conferenza “Pellegrinaggio visivo alla Verna\, il primo\npop-up della Storia” con la presentazione del libro di Jacopo Liguzzi del 1607 “La\ndescrizione del Sacro Monte della Vernia”.\nIl testo di Moroni\, Provinciale Toscano dei Francescani e proprietà di un collezionista\nprivato\, è uno dei pochi esemplari ancora esistenti\, commissionato a Jacopo Liguzzi che\nrealizzò una serie di disegni con i luoghi sacri della Verna così da rendere visibile ad un\nmaggior numero di fedeli uno dei luoghi simbolo dello spirito francescano\, il Monte della\nVerna.\nIl libro è uno dei primi testi a servirsi di quelli che oggi si definiscono Pop-up; aree delle\nillustrazioni coperte da foglietti rimovibili incollati parzialmente che movimentano la\nlettura delle immagini invitando il lettore a scoprire i segreti del luogo sacro.\nIl testo sarà presentato alla presenza del Sindaco di Novafeltria\, Dott Stefano Zanchini e\ndi S.E. Vescovo della Diocesi San Marino-Montefeltro\, Mons Domenico Beneventi.\nL’incontro sarà moderato dall’Avv. Lorenzo Valenti\, Presidente Società Studi Montefeltrani\ncon gli interventi del Prof. Tommaso di Carpegna Falconieri\, Ordinario di Storia Medievale\nUniversità di Urbino\, dall’Arch. Alessia Uccellini che ha realizzato il video “il Pop-up del\nmiracolo”\, Frate\nDino Dozzi Direttore Scientifico del Festival Francescano\, e da Franco Boarelli\, presidente\ndell’Associazione Cammini di Francesco in Emilia Romagna.\nFrancescanamente è un progetto di Verde & Antico\, progetto di promozione cofinanziato\ndal GAL Valli Marecchia e Conca e Regione Emilia Romagna\, che ha realizzato diversi eventi\nper celebrare gli 800 di San Francesco in Valmarecchia tra cui l’ultimo evento a Novafeltria\nlo scorso 12 ottobre con un concerto sulla ricorrenza del Cantico delle Creature presso il\nTeatro Sociale.
URL:https://www.thelovelyplaces.com/evento/pellegrinaggio-visivo-alla-verna-il-primo-pop-up-della-storia/
CATEGORIES:800° San Francesco
ATTACH;FMTTYPE=image/png:https://www.thelovelyplaces.com/wp-content/uploads/2026/03/Locandina-evento-22-marzo-2026_6.png
END:VEVENT
BEGIN:VEVENT
DTSTART;TZID=Europe/Rome:20260321T153000
DTEND;TZID=Europe/Rome:20260321T173000
DTSTAMP:20260419T193039
CREATED:20260312T122500Z
LAST-MODIFIED:20260312T122624Z
UID:10001177-1774107000-1774114200@www.thelovelyplaces.com
SUMMARY:I LUOGHI DI VETRO – Camminata letteraria
DESCRIPTION:Un appuntamento primaverile rivolto a chi ama la lettura\, a chi cammina con curiosità\, a chi desidera guardare il territorio con occhi nuovi. La protagonista del libro “I Giorni di Vetro”\, Iris\, ci accompagnerà simbolicamente tra scorci sospesi\, silenzi intensi\, angoli della città reali e immaginati\, in un dialogo profondo tra storia\, emozioni e identità. \n📖 Cosa prevede l’esperienza\nA condurci sarà Laura Mengozzi\, guida ambientale escursionistica AIGAE\, che intreccerà letture ad alta voce tratte dal romanzo\, approfondimenti sui luoghi attraversati\, e suggestioni per vivere in modo immersivo il legame tra Castrocaro e la letteratura. \nL’evento è adatto a tutte le età e non richiede un allenamento particolare\, ma si consiglia abbigliamento comodo e scarpe adatte alla camminata. \n📌Info utili\nData: Sabato 21 Marzo\nOrario di ritrovo: ore 15:00                                                                                                                                                                                                                    Orario di partenza: ore 15:30                                                                                                                                                                                                                Punto di partenza: Welcome Room – Via Garibaldi 46\, Castrocaro Terme\nQuota di partecipazione: 8 € (gratuito per under 12)\nDurata indicativa: circa 2 ore\nPrenotazioni:\n☎️ +39 350 5193970\n📧 info@castrocarotermeterradelsole.travel \nUn’occasione preziosa per lasciarsi attraversare da una storia che parla anche di noi\, e riscoprire\, tra le vie di Castrocaro\, la bellezza discreta e potente delle parole. \n 
URL:https://www.thelovelyplaces.com/evento/i-luoghi-di-vetro-camminata-letteraria/
ATTACH;FMTTYPE=image/jpeg:https://www.thelovelyplaces.com/wp-content/uploads/2026/03/Luoghi-di-vetro-sabato-21-marzo-2026.jpg
END:VEVENT
BEGIN:VEVENT
DTSTART;TZID=Europe/Rome:20260319T170000
DTEND;TZID=Europe/Rome:20260319T235900
DTSTAMP:20260419T193039
CREATED:20260312T110331Z
LAST-MODIFIED:20260316T075440Z
UID:10001174-1773939600-1773964740@www.thelovelyplaces.com
SUMMARY:Inaugurazione dell'ottocentenario della morte di San Francesco
DESCRIPTION:La commemorazione degli ottocento anni delle morte di San Francesco sarà inaugurata nella Repubblica di San Marino con una solenne Liturgia presieduta dal Vescovo della Diocesi San Marino-Montefeltro\, S.E. Monsignor Domenico Beneventi alla presenza degli Ecc.mi Capitani Reggenti. L’evento si terrà giovedì 19 marzo 2026\, alle ore 17:00\, presso la chiesa di San Francesco\, situata nel centro storico di San Marino. Al termine della Messa si svolgerà un breve intrattenimento artistico-spirituale. Andrea Severi\, come vuole la tradizione liturgica francescana\, eseguirà la lettura del Testamento di San Francesco. I canti saranno eseguiti dalla Corale San Marino e dalle monache dell’Adorazione Perpetua.\nL’evento è patrocinato da parte della Segreteria di Stato per il Turismo.
URL:https://www.thelovelyplaces.com/evento/inaugurazione-dellottocentenario-della-morte-di-san-francesco/
CATEGORIES:800° San Francesco
ATTACH;FMTTYPE=image/jpeg:https://www.thelovelyplaces.com/wp-content/uploads/2026/03/locandina_19_marzo_2026_RSM_testamento_s_francesco_ok_def-Layout-1-1-scaled.jpg
END:VEVENT
BEGIN:VEVENT
DTSTART;TZID=Europe/Rome:20260314T210000
DTEND;TZID=Europe/Rome:20260314T235900
DTSTAMP:20260419T193039
CREATED:20260205T093006Z
LAST-MODIFIED:20260205T093006Z
UID:10001158-1773522000-1773532740@www.thelovelyplaces.com
SUMMARY:Lorenzo Carpinelli - Ombrelloni - Prova d'Attore 25/26
DESCRIPTION:LORENZO CARPINELLI Ombrelloni\ndi Iacopo Gardelli\nmusiche di Giacomo Toschi\nLa Riviera Romagnola ha una caratteristica particolare. Nessuno ci va per il mare: ciò che conta davvero è la spiaggia. Da sempre. Per tre mesi all’anno gli stabilimenti balneari diventano grandi condomini costruiti sulla sabbia. Sotto gli ombrelloni si forma una comunità di inquilini temporanei. Ognuno ha la sua segreta ossessione: c’è chi è impegnato ad abbronzarsi\, chi sogna di nuotare fino alla Croazia\, chi osserva segretamente corpi seminudi. È la vita balneare: un microcosmo schizofrenico\, intimo e allo stesso tempo esibizionista\, che alterna stati di eccitazione febbrile a lunghe paralisi postprandiali. Quella balneare sembra una vita destinata a ripetersi uguale a sé stessa per l’eternità. Ma c’è un problema. La spiaggia è una linea fragile. Turismo di massa\, alluvioni\, subsidenza\, innalzamento del livello del mare minacciano l’esistenza di un ecosistema che\, per troppo tempo\, abbiamo dato per scontato. Questo monologo comico riprende stili e tematiche care al teatro di narrazione\, nel solco di maestri come Dario Fo\, Marco Baliani e Marco Paolini. Il Bagno Kursaal – fittizio stabilimento per famiglie che ha attraversato immutato gli ultimi trent’anni di storia italiana – diventa la lente d’ingrandimento per raccontare le illusioni e le ossessioni di un Paese\, il nostro\, che dà il suo meglio e il suo peggio in vacanza. Ogni ombrellone\, come sa bene l’anonimo narratore protagonista del racconto\, può custodire una storia: e quella storia\, inevitabilmente\, parla di noi.
URL:https://www.thelovelyplaces.com/evento/lorenzo-carpinelli-ombrelloni-prova-dattore-25-26/
ATTACH;FMTTYPE=image/jpeg:https://www.thelovelyplaces.com/wp-content/uploads/2026/02/LORENZO.jpg
END:VEVENT
BEGIN:VEVENT
DTSTART;TZID=Europe/Rome:20260314T153000
DTEND;TZID=Europe/Rome:20260314T190000
DTSTAMP:20260419T193039
CREATED:20260312T111057Z
LAST-MODIFIED:20260312T111057Z
UID:10001175-1773502200-1773514800@www.thelovelyplaces.com
SUMMARY:Nona edizione “Alberto Sordi Family Award”
DESCRIPTION:Giunto alla nona edizione\, il Premio Internazionale Alberto Sordi Family Award\,\nideato e condotto dal giornalista e conduttore radiofonico di successo con “Igorà”\nRai Radio1 Igor Righetti\, cugino del grande attore Alberto Sordi\, approda per la\nprima volta nella Repubblica di San Marino. Il riconoscimento celebra personalità\nche si sono distinti per il loro talento e per aver contribuito a far crescere\,\nculturalmente e nello spirito critico\, la società nel suo complesso.\nNel corso della serata saranno premiate personalità di rilievo nazionale e\ninternazionale\, tra cui anche eccellenze sammarinesi. L’evento prevede alle ore\n15:30 photocall\, inizio dell’evento e premiazione alle ore 16:30\, conclusione evento\nore 19\,00\nTra i premiati figurano\, tra gli altri:\nSimona Ventura\nRoberto Sergio\, direttore generale San Marino RTV e RAI\nAntonio Casanova\, illusionista (con uno spettacolo durante la serata)\nAndrea Biavardi\, direttore del settimanale “Oggi”\nFrancesca Pascale (diritti civili e tutela degli animali)\nChiara Squaglia\, inviata di “Striscia la Notizia”\nElisabetta\, Nicola e Davide Dalla Grana (PuraNatura)\nGiuseppe Giardi\, rappresentante della cultura sammarinese\nMichele Pinto\, direttore dei quotidiani online “Vivere”.
URL:https://www.thelovelyplaces.com/evento/nona-edizione-alberto-sordi-family-award/
ATTACH;FMTTYPE=image/jpeg:https://www.thelovelyplaces.com/wp-content/uploads/2026/03/Alberto-Sordi-Family-Award.jpg
END:VEVENT
BEGIN:VEVENT
DTSTART;TZID=Europe/Rome:20260314T153000
DTEND;TZID=Europe/Rome:20260314T173000
DTSTAMP:20260419T193039
CREATED:20260224T152326Z
LAST-MODIFIED:20260224T152326Z
UID:10001170-1773502200-1773509400@www.thelovelyplaces.com
SUMMARY:IL BAROCCO A TERRA DEL SOLE
DESCRIPTION:Un percorso guidato a Terra del Sole dedicato alla scoperta del Barocco tra arte sacra\, scenografie e simboli di devozione. Dalla Chiesa di Santa Reparata al Palazzo Pretorio di Terra del Sole con una mostra dedicata ai paramenti liturgici. Lla visita accompagna i partecipanti tra altari\, opere e dettagli decorativi che raccontano un linguaggio fatto di luce\, teatralità ed emozione. \nUn itinerario che svela come l’arte barocca trasformi gli spazi in racconto\, intrecciando fede\, potere e meraviglia nel cuore della città-fortezza. \n🕒 Inizio visita ore 15:30 – durata 2 ore circa 🎫 Costo: biglietto d’ingresso + €8  📞 Prenotazione entro il 12 marzo: +39 350 5193970 \n 
URL:https://www.thelovelyplaces.com/evento/il-barocco-a-terra-del-sole/
ATTACH;FMTTYPE=image/png:https://www.thelovelyplaces.com/wp-content/uploads/2026/02/2.png
END:VEVENT
BEGIN:VEVENT
DTSTART;TZID=Europe/Rome:20260307T153000
DTEND;TZID=Europe/Rome:20260307T163000
DTSTAMP:20260419T193039
CREATED:20260224T151419Z
LAST-MODIFIED:20260224T151603Z
UID:10001169-1772897400-1772901000@www.thelovelyplaces.com
SUMMARY:STORIE DI DAME E ANCELLE ALLA FORTEZZA DI CASTROCARO
DESCRIPTION:Una visita guidata speciale alla Fortezza di Castrocaro per scoprire il monumento attraverso lo sguardo delle donne che ne hanno attraversato i corridoi lungo la storia. “Dame e ancelle alla Fortezza” propone un percorso dedicato alle figure femminili che hanno abitato e segnato questo luogo simbolo\, tra racconti\, ruoli e presenze spesso dimenticate. \nUn’occasione per rileggere la Fortezza con una prospettiva diversa\, capace di unire memoria\, curiosità e approfondimento storico in un’esperienza coinvolgente e partecipata. \n🕒 Inizio visita ore 15:30 – durata 1 ora circa 🎫 Costo: biglietto d’ingresso+ €5 📞 Prenotazione entro il 5 marzo: +39 350 5193970
URL:https://www.thelovelyplaces.com/evento/storie-di-dame-e-ancelle-alla-fortezza-di-castrocaro/
ATTACH;FMTTYPE=image/png:https://www.thelovelyplaces.com/wp-content/uploads/2026/02/1.png
END:VEVENT
BEGIN:VEVENT
DTSTART;TZID=Europe/Rome:20260220T203000
DTEND;TZID=Europe/Rome:20260220T223000
DTSTAMP:20260419T193039
CREATED:20260128T160424Z
LAST-MODIFIED:20260128T160813Z
UID:10001155-1771619400-1771626600@www.thelovelyplaces.com
SUMMARY:Il viaggio di Dante tra Montecerignone e Macerata Feltria
DESCRIPTION:Presenze dantesche a Montecerignone: \nil”Progetto Dantebus”
URL:https://www.thelovelyplaces.com/evento/il-viaggio-di-dante-tra-montecerignone-e-macerata-feltria/
ATTACH;FMTTYPE=image/jpeg:https://www.thelovelyplaces.com/wp-content/uploads/2026/01/il-viaggio-di-dante-tra-montecerignone-e-macerata-feltria-1.jpg
END:VEVENT
BEGIN:VEVENT
DTSTART;TZID=Europe/Rome:20260215T150000
DTEND;TZID=Europe/Rome:20260215T235900
DTSTAMP:20260419T193039
CREATED:20260205T094432Z
LAST-MODIFIED:20260205T094432Z
UID:10001162-1771167600-1771199940@www.thelovelyplaces.com
SUMMARY:Gran Carnevale!
DESCRIPTION:Sfilata di gruppi mascherati\, animazione e buffet
URL:https://www.thelovelyplaces.com/evento/gran-carnevale/
ATTACH;FMTTYPE=image/jpeg:https://www.thelovelyplaces.com/wp-content/uploads/2026/02/Visit-Sogliano-al-Rubicone-Eventi-gran-carnevale-2026-1.jpg
END:VEVENT
BEGIN:VEVENT
DTSTART;TZID=Europe/Rome:20260213T210000
DTEND;TZID=Europe/Rome:20260213T233000
DTSTAMP:20260419T193039
CREATED:20260123T081734Z
LAST-MODIFIED:20260128T140222Z
UID:10001154-1771016400-1771025400@www.thelovelyplaces.com
SUMMARY:Mario Perrotta - Nel blu. Avere tra le braccia tanta felicità - Prova d'Attore 25/26
DESCRIPTION:MARIO PERROTTA Nel blu. Avere tra le braccia tanta felicità\ndi e con Mario Perrotta\ncollaborazione alla regia Paola Roscioli\nmusiche Domenico Modugno\nensemble musicale Vanni Crociani\, Giuseppe Franchellucci\, Massimo Marches\, Mario Perrotta\nC’è stato un momento in cui il nostro Paese è apparso felice. Sono gli anni a cavallo del 1958\, subito prima e subito dopo l’inizio del boom economico. La gente era – o sembrava – felice\, carica di futuro negli occhi. E se c’è un uomo che incarna tutto questo nel suo corpo\, se c’è uno che con la sua voce\, con la spinta vitale che ha abitato ogni suo passo\, rappresenta appieno quegli anni\, quest’uomo è Domenico Modugno. Nel blu è il racconto intimo di un uomo di una terra dimenticata da Dio – quella Puglia che sarebbe rimasta alla periferia del regno ancora per decenni\, almeno fino a quando anch’io la lasciai per cercare una vita artistica altrove – che parte all’avventura per “fare l’attore” e si ritrova\, dopo pochi anni\, a insegnare a tutto il mondo a “volare”\, trascinando via con un urlo irrefrenabile ogni residuo fosco del dopoguerra. Proverò ad accostare la sua storia con tutta la cura possibile\, per non tradire un uomo della mia terra\, per non tradire la mia terra stessa.
URL:https://www.thelovelyplaces.com/evento/mario-perrotta-nel-blu-avere-tra-le-braccia-tanta-felicita-prova-dattore-25-26/
ATTACH;FMTTYPE=image/jpeg:https://www.thelovelyplaces.com/wp-content/uploads/2026/01/Visit-Sogliano-al-Rubicone-Eventi-prova-d-attore-mario-perrotta_box.jpg
END:VEVENT
BEGIN:VEVENT
DTSTART;TZID=Europe/Rome:20260208T170000
DTEND;TZID=Europe/Rome:20260208T190000
DTSTAMP:20260419T193039
CREATED:20260123T081231Z
LAST-MODIFIED:20260127T083834Z
UID:10001153-1770570000-1770577200@www.thelovelyplaces.com
SUMMARY:Alessandro Fullin - Tre Sedie ovvero la scenografia - Prova d'Attore 25/26
DESCRIPTION:ALESSANDRO FULLIN TRE SEDIE ovvero la scenografia\ncon Alessandro Fullin\, Alessandra Ierse e Ussi Alzati\nGli anni? Passano. Le mode? Passano. Gli amori? Passano. Quello che resta sono i contributi versati allo Stato e la voglia di tornare sul palco. Tre attrici (Ierse\, Fullin\, Ussi)\, incoraggiate da nessuna produzione\, decidono di interpretare tre donne a cui solo in parte assomigliano. I tempi in cui si svolge la commedia sono quelli nostri quindi avventurosi e fragilissimi. Trama: un’amica comune se ne va all’altro mondo e lascia a tre amiche una casetta orrenda con intorno panorama montano dimenticabilissimo. Non siamo a Cortina\, né a Courmayeur ma neanche a Limone Piemonte. Intorno non ci sono piste da sci\, seggiovie\, negozi di lusso ma un bosco di conifere in cui anche i mirtilli hanno deciso di non crescere. Come passare il tempo allora? Una tisana drenante e molti ricordi per arrivare ad una grande verità: anche una amica può essere una lama che ci attende nel buio. A disposizione delle protagoniste sul palco solo tre sedie: quindi niente piramidi\, palme\, elefanti. “Ed è un vero peccato” rivelano le tre manigolde “perché per chiudere in bellezza noi si voleva fare l’Aida”.
URL:https://www.thelovelyplaces.com/evento/alessandro-fullin-tre-sedie-ovvero-la-scenografia-prova-dattore-25-26/
ATTACH;FMTTYPE=image/jpeg:https://www.thelovelyplaces.com/wp-content/uploads/2026/01/Visit-Sogliano-al-Rubicone-Eventi-alessandro-fullin-prova-dattore-2026_ver2.jpg
END:VEVENT
END:VCALENDAR